BEGIN:VCALENDAR
PRODID:NingEventWidget-v1
VERSION:2.0
METHOD:PUBLISH
BEGIN:VTIMEZONE
TZID:Europe/Athens
X-LIC-LOCATION:Europe/Athens
BEGIN:DAYLIGHT
TZOFFSETFROM:+0200
TZOFFSETTO:+0300
TZNAME:EEST
DTSTART:19700329T030000
RRULE:FREQ=YEARLY;BYMONTH=3;BYDAY=-1SU
END:DAYLIGHT
BEGIN:STANDARD
TZOFFSETFROM:+0300
TZOFFSETTO:+0200
TZNAME:EET
DTSTART:19701025T040000
RRULE:FREQ=YEARLY;BYMONTH=10;BYDAY=-1SU
END:STANDARD
END:VTIMEZONE
BEGIN:VEVENT
UID:1982923:Event:18490
DTSTAMP:20260423T073411Z
SUMMARY:THE TUBESCREAMERS BAND LIVE
DESCRIPTION:AN AFTER MIDNIGHT BLUES ROCK PARTY WITH THE TUBESCREAMERS 
 BAND.BE THERE.\n\nFor more information visit https://blues.gr/events/t
 he-tubescreamers-band-live-2
DTSTART;TZID=Europe/Athens:20090221T010000
DTEND;TZID=Europe/Athens:20090221T040000
CATEGORIES:blues, rock, party
LOCATION:KING SIZE CLUB -IERISSOS HALKIDIKIS GREECE
WEBSITE:http://www.myspace.com/tubescreamers1
URL:http://www.myspace.com/tubescreamers1
CONTACT:
ORGANIZER;CN=TUBESCREAMERS:https://blues.gr/profile/TUBESCREAMERS
ATTACH;FMTTYPE="image/jpeg":http://storage.ning.com/topology/rest/1.0/
 file/get/2252936458?profile=original
ATTENDEE;ROLE=REQ-PARTICIPANT;PARTSTAT=ACCEPTED;RSVP=TRUE;CN=TUBESCREA
 MERS:https://blues.gr/profile/TUBESCREAMERS
END:VEVENT
END:VCALENDAR
