BEGIN:VCALENDAR
PRODID:NingEventWidget-v1
VERSION:2.0
METHOD:PUBLISH
BEGIN:VTIMEZONE
TZID:Europe/Athens
X-LIC-LOCATION:Europe/Athens
BEGIN:DAYLIGHT
TZOFFSETFROM:+0200
TZOFFSETTO:+0300
TZNAME:EEST
DTSTART:19700329T030000
RRULE:FREQ=YEARLY;BYMONTH=3;BYDAY=-1SU
END:DAYLIGHT
BEGIN:STANDARD
TZOFFSETFROM:+0300
TZOFFSETTO:+0200
TZNAME:EET
DTSTART:19701025T040000
RRULE:FREQ=YEARLY;BYMONTH=10;BYDAY=-1SU
END:STANDARD
END:VTIMEZONE
BEGIN:VEVENT
UID:1982923:Event:18997
DTSTAMP:20260423T073514Z
SUMMARY:THE TUBESCREAMERS BAND LIVE
DESCRIPTION:Oι THE TUBESCREAMERS BAND live στο bar ΣΤΟΑ στο
  Πολύγυρο Χαλκιδικής (Στο πεζόδρομο όπ
 ισθεν του δημαρχείου)\n\nΠαρασκευή 6/3/09 t
 ime: 22:30\n\nFor more information visit https://blues.gr/events/the-t
 ubescreamers-band-live-3
DTSTART;TZID=Europe/Athens:20090306T000000
DTEND;TZID=Europe/Athens:20090306T235900
CATEGORIES:blues, rock, night
LOCATION:Bar ΣΤΟΑ -ΠΟΛΥΓΥΡΟΣ ΧΑΛΚΙΔΙΚΗΣ
WEBSITE:http://www.myspace.com/tubescreamers1
URL:http://www.myspace.com/tubescreamers1
CONTACT:
ORGANIZER;CN=TUBESCREAMERS:https://blues.gr/profile/TUBESCREAMERS
ATTACH;FMTTYPE="image/jpeg":http://storage.ning.com/topology/rest/1.0/
 file/get/2073735724?profile=original
ATTENDEE;ROLE=REQ-PARTICIPANT;PARTSTAT=ACCEPTED;RSVP=TRUE;CN=TUBESCREA
 MERS:https://blues.gr/profile/TUBESCREAMERS
END:VEVENT
END:VCALENDAR
