BEGIN:VCALENDAR
PRODID:NingEventWidget-v1
VERSION:2.0
METHOD:PUBLISH
BEGIN:VTIMEZONE
TZID:Europe/Athens
X-LIC-LOCATION:Europe/Athens
BEGIN:DAYLIGHT
TZOFFSETFROM:+0200
TZOFFSETTO:+0300
TZNAME:EEST
DTSTART:19700329T030000
RRULE:FREQ=YEARLY;BYMONTH=3;BYDAY=-1SU
END:DAYLIGHT
BEGIN:STANDARD
TZOFFSETFROM:+0300
TZOFFSETTO:+0200
TZNAME:EET
DTSTART:19701025T040000
RRULE:FREQ=YEARLY;BYMONTH=10;BYDAY=-1SU
END:STANDARD
END:VTIMEZONE
BEGIN:VEVENT
UID:1982923:Event:24023
DTSTAMP:20260419T181228Z
SUMMARY:THE TUBESCREAMERS BAND LIVE
DESCRIPTION:The Tubescreamers band live at No Bar.Θεσσαλονίκ
 η (Θάλητος 31,Περιοχή Ποσειδωνείου) PURE BL
 UES ROCK NIGHT\n\nFor more information visit https://blues.gr/events/t
 he-tubescreamers-band-live-6
DTSTART;TZID=Europe/Athens:20090508T000000
DTEND;TZID=Europe/Athens:20090508T235900
CATEGORIES:blues, rock, night
LOCATION:NO BAR
WEBSITE:http://www.myspace.com/tubescreamers1
URL:http://www.myspace.com/tubescreamers1
CONTACT:
ORGANIZER;CN=TUBESCREAMERS:https://blues.gr/profile/TUBESCREAMERS
ATTACH;FMTTYPE="image/jpeg":http://storage.ning.com/topology/rest/1.0/
 file/get/2252936534?profile=original
ATTENDEE;ROLE=REQ-PARTICIPANT;PARTSTAT=ACCEPTED;RSVP=TRUE;CN="Manolis 
 Thessaloniki":https://blues.gr/profile/ManolisThessaloniki
ATTENDEE;ROLE=REQ-PARTICIPANT;PARTSTAT=ACCEPTED;RSVP=TRUE;CN=Christina
 :https://blues.gr/profile/Christina
ATTENDEE;ROLE=REQ-PARTICIPANT;PARTSTAT=ACCEPTED;RSVP=TRUE;CN=TUBESCREA
 MERS:https://blues.gr/profile/TUBESCREAMERS
ATTENDEE;ROLE=REQ-PARTICIPANT;PARTSTAT=TENTATIVE;RSVP=TRUE;CN="billy j
 ones bluez":https://blues.gr/profile/billyjonesbluez
END:VEVENT
END:VCALENDAR
