BEGIN:VCALENDAR
PRODID:NingEventWidget-v1
VERSION:2.0
METHOD:PUBLISH
BEGIN:VTIMEZONE
TZID:Europe/Athens
X-LIC-LOCATION:Europe/Athens
BEGIN:DAYLIGHT
TZOFFSETFROM:+0200
TZOFFSETTO:+0300
TZNAME:EEST
DTSTART:19700329T030000
RRULE:FREQ=YEARLY;BYMONTH=3;BYDAY=-1SU
END:DAYLIGHT
BEGIN:STANDARD
TZOFFSETFROM:+0300
TZOFFSETTO:+0200
TZNAME:EET
DTSTART:19701025T040000
RRULE:FREQ=YEARLY;BYMONTH=10;BYDAY=-1SU
END:STANDARD
END:VTIMEZONE
BEGIN:VEVENT
UID:1982923:Event:42572
DTSTAMP:20260421T211102Z
SUMMARY:The Tubescreamers Live (with 2 more Bands).
DESCRIPTION:\n\nFor more information visit https://blues.gr/events/the
 -tubescreamers-live-with-2
DTSTART;TZID=Europe/Athens:20100225T210000
DTEND;TZID=Europe/Athens:20100226T000000
CATEGORIES:concert
LOCATION:Eight Ball Bar-Thessaloniki
WEBSITE:http://www.myspace.com/tubescreamers1
URL:http://www.myspace.com/tubescreamers1
CONTACT:
ORGANIZER;CN=TUBESCREAMERS:https://blues.gr/profile/TUBESCREAMERS
ATTACH;FMTTYPE="image/jpeg":http://storage.ning.com/topology/rest/1.0/
 file/get/2073735724?profile=original
ATTENDEE;ROLE=REQ-PARTICIPANT;PARTSTAT=ACCEPTED;RSVP=TRUE;CN=Î“ÎºÎ¹ÏŽÎ
 ½Î·Ï‚:https://blues.gr/profile/Gkihones
ATTENDEE;ROLE=REQ-PARTICIPANT;PARTSTAT=ACCEPTED;RSVP=TRUE;CN=TUBESCREA
 MERS:https://blues.gr/profile/TUBESCREAMERS
END:VEVENT
END:VCALENDAR
