BEGIN:VCALENDAR
PRODID:NingEventWidget-v1
VERSION:2.0
METHOD:PUBLISH
BEGIN:VTIMEZONE
TZID:Europe/Athens
X-LIC-LOCATION:Europe/Athens
BEGIN:DAYLIGHT
TZOFFSETFROM:+0200
TZOFFSETTO:+0300
TZNAME:EEST
DTSTART:19700329T030000
RRULE:FREQ=YEARLY;BYMONTH=3;BYDAY=-1SU
END:DAYLIGHT
BEGIN:STANDARD
TZOFFSETFROM:+0300
TZOFFSETTO:+0200
TZNAME:EET
DTSTART:19701025T040000
RRULE:FREQ=YEARLY;BYMONTH=10;BYDAY=-1SU
END:STANDARD
END:VTIMEZONE
BEGIN:VEVENT
UID:1982923:Event:95911
DTSTAMP:20260421T201946Z
SUMMARY:Το Blues σημαίνει ανθρωπιά \"Onisimos Blues 
 Festival\"
DESCRIPTION:Το Blues σημαίνει ανθρωπιά, ψυχή, ε
 υαισθησία. Ευαισθησία σε ανθρώπους πο
  είτε από λάθος τους είτε από σφάλματα
  άλλων ανθρώπων και κακές δικές τους ε
 τιμήσεις, κατέληξαν στη φυλακή. Κάθε χ
 ρόνο, ο ΑΝΤΩΝΗΣ ΠΑΝΟΠΟΥΛΟΣ (Blues Therapy) μα
 ί με τον ΔΗΜΗΤΡΗ ΙΩΑΝΝΟΥ (μπασίστας κα
 ι τραγουδιστής των Blues Cargo) διοργανώνου
 ν μία εκδήλωση για τους ΑΝΗΛΙΚΟΥΣ ΚΡΑΤ
 ΟΥΜΕΝΟΥΣ στις φυλακές. Τα χρήματα κάθε
  χρόνο τα παραδίδει ο ίδιος ο ΑΝΤΩΝΗΣ Π
 ΑΝΟΠΟΥΛΟΣ στον ΟΝΗΣΙΜΟ  www.onisimos.gr, τον 
 ργανισμό-φορέα που συμπαρίσταται στο
 ς ανήλικους κρατούμενους. Η συγκεκριμ
 ένη εκδήλωση θα γίνει στις 19 Μαρτίου, ώ
 ρα 10:00 στο Vinillion  Έκτορος 92 και Μενελάο
  26 στο Ίλιον. Τηλ. 210 2692640.Συμμετέχουν:MIK
 E DOTSON BAND\nBLUES THERAPYΣΙΜΟΣ ΚΟΚΑΒΕΣΗΣ ΤΡΙΟDOWN
 HOME BAND.Την συγκεκριμένη μέρα, όλα τα χρή
 ματα πηγαίνουν για τους ανήλικους κρα
 ούμενους.Όσοι πιστεύουν ότι θα ήθελαν
  να στηρίξουν με την παρουσία τους την 
 συγκεκριμένη εκδήλωση μπορούν να έρθο
 υν.\n\nFor more information visit https://blues.gr/events/to-blues-s
 emahinei-anthropiha
DTSTART;TZID=Europe/Athens:20110319T220000
DTEND;TZID=Europe/Athens:20110320T020000
CATEGORIES:fundraiser
LOCATION:VINILION CLUB
WEBSITE:
URL:
CONTACT:210 2692640.
ORGANIZER;CN="Dimitris Ioannou":https://blues.gr/profile/DimitrisIoann
 ou
ATTACH;FMTTYPE="image/jpeg":http://storage.ning.com/topology/rest/1.0/
 file/get/2252948689?profile=original
ATTENDEE;ROLE=REQ-PARTICIPANT;PARTSTAT=ACCEPTED;RSVP=TRUE;CN="Music Ne
 twork by Michael Limnios":https://blues.gr/profile/MichalisLimnios
ATTENDEE;ROLE=REQ-PARTICIPANT;PARTSTAT=ACCEPTED;RSVP=TRUE;CN=MALIAS:ht
 tps://blues.gr/profile/MALIAS
ATTENDEE;ROLE=REQ-PARTICIPANT;PARTSTAT=ACCEPTED;RSVP=TRUE;CN="Dimitris
  Ioannou":https://blues.gr/profile/DimitrisIoannou
END:VEVENT
END:VCALENDAR
