BEGIN:VCALENDAR
PRODID:NingEventWidget-v1
VERSION:2.0
METHOD:PUBLISH
BEGIN:VTIMEZONE
TZID:Europe/Athens
X-LIC-LOCATION:Europe/Athens
BEGIN:DAYLIGHT
TZOFFSETFROM:+0200
TZOFFSETTO:+0300
TZNAME:EEST
DTSTART:19700329T030000
RRULE:FREQ=YEARLY;BYMONTH=3;BYDAY=-1SU
END:DAYLIGHT
BEGIN:STANDARD
TZOFFSETFROM:+0300
TZOFFSETTO:+0200
TZNAME:EET
DTSTART:19701025T040000
RRULE:FREQ=YEARLY;BYMONTH=10;BYDAY=-1SU
END:STANDARD
END:VTIMEZONE
BEGIN:VEVENT
UID:1982923:Event:84570
DTSTAMP:20260421T201957Z
SUMMARY:ΤΟ BLUES ΣΤΑ ΚΑΛΑ ΤΟΥ ΣΤΟ ΜΕΓΑΛΟ ΠΑΛΚ
 Ο ΤΟΥ LAZY.
DESCRIPTION:Παρασκευή 17/12\nGEORGE & THE DUKES *\nΓιώργ
 ος Χατζόπουλος: κιθάρα-φωνή, Δημήτρης 
 εταξάς: μπάσο, Γιάννης Χριστόπουλος: ν
 τραμς.\n Εκρηκτικό BLUES τρίο με τον Γιώρ
 ο Χατζόπουλο στα καλύτερα καυτά κιθαρ
 ιστικά σόλο. Το ROCK ξεκινάει απ’ τα βασ
 κά.\n \n\nFor more information visit https://blues.gr/events/to-bl
 ues-sta-kala-toy-sto
DTSTART;TZID=Europe/Athens:20101217T230000
DTEND;TZID=Europe/Athens:20101218T023000
CATEGORIES:blues, "party."
LOCATION:THE LAZY ROCK AND BLUES CLUB - EVER LIVE
WEBSITE:
URL:
CONTACT:210 6895535
ORGANIZER;CN="Spiros Dramitinos":https://blues.gr/profile/SpirosDramit
 inos
ATTACH;FMTTYPE="image/jpeg":http://storage.ning.com/topology/rest/1.0/
 file/get/2252947176?profile=original
ATTENDEE;ROLE=REQ-PARTICIPANT;PARTSTAT=ACCEPTED;RSVP=TRUE;CN="Spiros D
 ramitinos":https://blues.gr/profile/SpirosDramitinos
END:VEVENT
END:VCALENDAR
