BEGIN:VCALENDAR
PRODID:NingEventWidget-v1
VERSION:2.0
METHOD:PUBLISH
BEGIN:VTIMEZONE
TZID:Europe/Athens
X-LIC-LOCATION:Europe/Athens
BEGIN:DAYLIGHT
TZOFFSETFROM:+0200
TZOFFSETTO:+0300
TZNAME:EEST
DTSTART:19700329T030000
RRULE:FREQ=YEARLY;BYMONTH=3;BYDAY=-1SU
END:DAYLIGHT
BEGIN:STANDARD
TZOFFSETFROM:+0300
TZOFFSETTO:+0200
TZNAME:EET
DTSTART:19701025T040000
RRULE:FREQ=YEARLY;BYMONTH=10;BYDAY=-1SU
END:STANDARD
END:VTIMEZONE
BEGIN:VEVENT
UID:1982923:Event:86472
DTSTAMP:20260421T132030Z
SUMMARY:ΤΟ ΠΡΩΤΟ JAM NIGHT ΤΗΣ ΧΡΟΝΙΑΣ...ΟΛΟΙ Ο
  ΜΟΥΣΙΚΟΙ ΣΤΟ ΠΑΛΚΟ.
DESCRIPTION: \nΔευτέρα 3/1\nJAM NIGHT\nΚάθε Δευτέρα
  προσκαλούμε τους μουσικούς της πόλης 
 σε ατέλειωτα ξέφρενα τζαμαρίσματα! Η σ
 κηνή είναι  ανοιχτή για όλους όσους έχ
 ουν το Rock στην καρδιά. Δεν αποκλείεται 
 κανείς! \nΕλάχιστη κατανάλωση 5ευρώ.\n \n
  \n\nFor more information visit https://blues.gr/events/to-proto-jam-
 night-tes
DTSTART;TZID=Europe/Athens:20110103T223000
DTEND;TZID=Europe/Athens:20110104T023000
CATEGORIES:jam, night
LOCATION:THE LAZY ROCK AND BLUES CLUB - EVER LIVE
WEBSITE:http://www.lazy.gr  ///http://maps.google.com/maps?f=q&source=
 s_q&hl=en&geocode=&q=%CF%80%CE%B5%CE%BD%CF%84%CE%AD%CE%BB%CE%B7%CF%82+
 1+%CE%B2%CF%81%CE%B9%CE%BB%CE%AE%CF%83%CF%83%CE%B9%CE%B1&sll=19.394068
 ,-81.386719&sspn=37.4418,56.162109&ie=UTF8&hq=&hnear=Pentelis+1,+Vrili
 ssia+15235,+Athens,+Greece&z=16
URL:http://www.lazy.gr  ///http://maps.google.com/maps?f=q&source=s_q&
 hl=en&geocode=&q=%CF%80%CE%B5%CE%BD%CF%84%CE%AD%CE%BB%CE%B7%CF%82+1+%C
 E%B2%CF%81%CE%B9%CE%BB%CE%AE%CF%83%CF%83%CE%B9%CE%B1&sll=19.394068,-81
 .386719&sspn=37.4418,56.162109&ie=UTF8&hq=&hnear=Pentelis+1,+Vrilissia
 +15235,+Athens,+Greece&z=16
CONTACT:210 6895535
ORGANIZER;CN="Spiros Dramitinos":https://blues.gr/profile/SpirosDramit
 inos
ATTACH;FMTTYPE="image/jpeg":http://storage.ning.com/topology/rest/1.0/
 file/get/2252946733?profile=original
ATTENDEE;ROLE=REQ-PARTICIPANT;PARTSTAT=ACCEPTED;RSVP=TRUE;CN="Spiros D
 ramitinos":https://blues.gr/profile/SpirosDramitinos
END:VEVENT
END:VCALENDAR
