BEGIN:VCALENDAR
PRODID:NingEventWidget-v1
VERSION:2.0
METHOD:PUBLISH
BEGIN:VTIMEZONE
TZID:Europe/Athens
X-LIC-LOCATION:Europe/Athens
BEGIN:DAYLIGHT
TZOFFSETFROM:+0200
TZOFFSETTO:+0300
TZNAME:EEST
DTSTART:19700329T030000
RRULE:FREQ=YEARLY;BYMONTH=3;BYDAY=-1SU
END:DAYLIGHT
BEGIN:STANDARD
TZOFFSETFROM:+0300
TZOFFSETTO:+0200
TZNAME:EET
DTSTART:19701025T040000
RRULE:FREQ=YEARLY;BYMONTH=10;BYDAY=-1SU
END:STANDARD
END:VTIMEZONE
BEGIN:VEVENT
UID:1982923:Event:241973
DTSTAMP:20260421T200859Z
SUMMARY:TONY DOLLAR & ELECTRIC BLUES BAND/BLUES’n’SOUL SHAKERS
DESCRIPTION:Κυριακή 8/5\nTONY DOLLAR & ELECTRIC BLUES BAND/BLUE
 S’n’SOUL SHAKERS\nΑντώνης Πανόπουλος: φωνή-κ
 ιθάρα, Σπύρος Παρασκευόπουλος: φωνή-κι
 θάρα, Μπάμπης Τσιλιβίγκος: σαξόφωνο, Δ
 μήτρης Ιωάννου: μπάσο, Γιώργος Δεμερτ
 ίδης: ντραμς.\nΟ Αντώνης Πανόπουλος δη
 ιουργεί το 2016 ένα νέο ανοιχτό μουσικό 
 κύτταρο για Blues μουσικούς τους “TONY DOLLAR
  & ELECTRIC BAND”. Η πρώτη εμφάνιση θα γίνει σ
 το φιλόξενο Lazy Club με μουσικές Chicago Blues. 
 η βραδιά ανοίγουν  οι BLUES’n’SOUL SHAKERS.\nΕ
 ίσοδος 10 ευρώ με ποτό. Ώρα έναρξης 21.30.\n
  \n\nFor more information visit https://blues.gr/events/tony-dollar-e
 lectric-blues-band-blues-n-soul-shakers
DTSTART;TZID=Europe/Athens:20160508T213000
DTEND;TZID=Europe/Athens:20160509T010000
CATEGORIES:blues, "&", soul
LOCATION:LAZY CLUB
WEBSITE:http://www.lazy.gr
URL:http://www.lazy.gr
CONTACT:210 6895535
ORGANIZER;CN="Spiros Dramitinos":https://blues.gr/profile/SpirosDramit
 inos
ATTACH;FMTTYPE="image/jpeg":http://storage.ning.com/topology/rest/1.0/
 file/get/2253052325?profile=original
ATTENDEE;ROLE=REQ-PARTICIPANT;PARTSTAT=ACCEPTED;RSVP=TRUE;CN="Dimitris
  Ioannou":https://blues.gr/profile/DimitrisIoannou
ATTENDEE;ROLE=REQ-PARTICIPANT;PARTSTAT=ACCEPTED;RSVP=TRUE;CN="Spiros D
 ramitinos":https://blues.gr/profile/SpirosDramitinos
END:VEVENT
END:VCALENDAR
