BEGIN:VCALENDAR
PRODID:NingEventWidget-v1
VERSION:2.0
METHOD:PUBLISH
BEGIN:VTIMEZONE
TZID:Europe/Athens
X-LIC-LOCATION:Europe/Athens
BEGIN:DAYLIGHT
TZOFFSETFROM:+0200
TZOFFSETTO:+0300
TZNAME:EEST
DTSTART:19700329T030000
RRULE:FREQ=YEARLY;BYMONTH=3;BYDAY=-1SU
END:DAYLIGHT
BEGIN:STANDARD
TZOFFSETFROM:+0300
TZOFFSETTO:+0200
TZNAME:EET
DTSTART:19701025T040000
RRULE:FREQ=YEARLY;BYMONTH=10;BYDAY=-1SU
END:STANDARD
END:VTIMEZONE
BEGIN:VEVENT
UID:1982923:Event:107110
DTSTAMP:20260422T054010Z
SUMMARY:Tribute to Led Zeppelin & Rory Gallagher
DESCRIPTION:BACKTRACKIN'\nTRIBUTE TO LED ZEPPELIN & RORY CALLAGHER\n
 ίναι μαζί από το 1995 και υπηρετούν το cla
 ssic rock. Με όπλο την εμπειρία τους στα κα
 ά αφιερώματα, αφού πέρασαν από διάφορ
  tributes σε καλλιτέχνες των 70's, κάνουν το 
 μεγάλο βήμα και γίνονται η ελληνική Led 
 Zeppelin tribute band!\n\n\nFor more information visit https://blues.g
 r/events/tribute-to-led-zeppelin-rory
DTSTART;TZID=Europe/Athens:20110715T233000
DTEND;TZID=Europe/Athens:20110716T023000
CATEGORIES:live
LOCATION:Lazy
WEBSITE:http://www.myspace.com/backtrackingband
URL:http://www.myspace.com/backtrackingband
CONTACT:2106895535
ORGANIZER:Lazy Club
ATTACH;FMTTYPE="image/jpeg":http://storage.ning.com/topology/rest/1.0/
 file/get/2252953501?profile=original
ATTENDEE;ROLE=REQ-PARTICIPANT;PARTSTAT=ACCEPTED;RSVP=TRUE;CN="Music Ne
 twork by Michael Limnios":https://blues.gr/profile/MichalisLimnios
END:VEVENT
END:VCALENDAR
