BEGIN:VCALENDAR
PRODID:NingEventWidget-v1
VERSION:2.0
METHOD:PUBLISH
BEGIN:VTIMEZONE
TZID:Europe/Athens
X-LIC-LOCATION:Europe/Athens
BEGIN:DAYLIGHT
TZOFFSETFROM:+0200
TZOFFSETTO:+0300
TZNAME:EEST
DTSTART:19700329T030000
RRULE:FREQ=YEARLY;BYMONTH=3;BYDAY=-1SU
END:DAYLIGHT
BEGIN:STANDARD
TZOFFSETFROM:+0300
TZOFFSETTO:+0200
TZNAME:EET
DTSTART:19701025T040000
RRULE:FREQ=YEARLY;BYMONTH=10;BYDAY=-1SU
END:STANDARD
END:VTIMEZONE
BEGIN:VEVENT
UID:1982923:Event:19524
DTSTAMP:20260423T070706Z
SUMMARY:TUBE A BASSA LIVE ΣΤΟ JASMIN CLUB.
DESCRIPTION:ΔΥΝΑΜΙΚΟ ΗΛΕΚΤΡΙΚΟ BLUES ΜΕ ΤΟΥΣ TU
 BE A BASSA: ΦΙΟΝΑ ΛΑΜΠΡΙΔΗ-ΦΩΝΗ , ΜΑΝΩΛΗΣ ΑΘ
 ΑΝΑΣΑΚΗΣ - ΚΙΘΑΡΑ-ΦΩΝΗ , ΝΩΝΤΑΣ ΒΟΡΛΩΚΑ
 Σ- ΦΥΣΑΡΜΟΝΙΚΑ- ΦΩΝΗ , ΚΩΣΤΑΣ ΓΚΟΝΤΑΣ - 
 ΙΘΑΡΑ , ΔΗΜΗΤΡΗΣ ΔΙΑΜΑΝΤΟΠΟΥΛΟΣ - ΜΠΑΣ
 ΣΟ , ΝΙΚΟΣ ΓΡΕΤΟΣ - ΝΤΡΑΜΣ.\nΣΤΟ JASMIN CLUB.\n
 ΝΑΡΞΗ 10:30.\n\nFor more information visit https://blues.gr/even
 ts/tube-a-bassa-live-sto-jasmin
DTSTART;TZID=Europe/Athens:20090322T000000
DTEND;TZID=Europe/Athens:20090322T235900
CATEGORIES:gig
LOCATION:JASMIN CLUB
WEBSITE:
URL:
CONTACT:
ORGANIZER:\"DOWN HOME\" NONDAS
ATTACH;FMTTYPE="image/jpeg":http://storage.ning.com/topology/rest/1.0/
 file/get/2252936039?profile=original
ATTENDEE;ROLE=REQ-PARTICIPANT;PARTSTAT=ACCEPTED;RSVP=TRUE;CN="DOWN HOM
 E NONDAS":https://blues.gr/profile/NONDAS
ATTENDEE;ROLE=REQ-PARTICIPANT;PARTSTAT=TENTATIVE;RSVP=TRUE;CN="JOHN AN
 GELATOS-Red Rooster Prod.":https://blues.gr/profile/JohnAngelatos
END:VEVENT
END:VCALENDAR
