BEGIN:VCALENDAR
PRODID:NingEventWidget-v1
VERSION:2.0
METHOD:PUBLISH
BEGIN:VTIMEZONE
TZID:Europe/Athens
X-LIC-LOCATION:Europe/Athens
BEGIN:DAYLIGHT
TZOFFSETFROM:+0200
TZOFFSETTO:+0300
TZNAME:EEST
DTSTART:19700329T030000
RRULE:FREQ=YEARLY;BYMONTH=3;BYDAY=-1SU
END:DAYLIGHT
BEGIN:STANDARD
TZOFFSETFROM:+0300
TZOFFSETTO:+0200
TZNAME:EET
DTSTART:19701025T040000
RRULE:FREQ=YEARLY;BYMONTH=10;BYDAY=-1SU
END:STANDARD
END:VTIMEZONE
BEGIN:VEVENT
UID:1982923:Event:186872
DTSTAMP:20260424T102814Z
SUMMARY:Unhealthy Blues-Lazytrains live After dark
DESCRIPTION:2 Mπάντες σε blues αποχρώσεις.2 εξαι
 ρετικές γυναικείες φωνές και μουσικ(ή)
 οι με πολύ καλή διαθέση. Αφθόνη μπύρα. 
 ι αλλό να ζητήσει κανείς?  Ιπποκράτους
  και Διδότου 31  Το live θα ξεκινήσει στις 
 22.30\nhttps://www.facebook.com/Lazytrains/events\n\nhttps://www.faceb
 ook.com/Lazytrains\n\nFor more information visit https://blues.gr/even
 ts/unhealthy-blues-lazytrains-live-after-dark
DTSTART;TZID=Europe/Athens:20131007T100000
DTEND;TZID=Europe/Athens:20131107T120000
CATEGORIES:live
LOCATION:After Dark
WEBSITE:http://afterdark.gr/
URL:http://afterdark.gr/
CONTACT:
ORGANIZER;CN=lazytrains:https://blues.gr/profile/lazytrains
ATTACH;FMTTYPE="image/jpeg":http://storage.ning.com/topology/rest/1.0/
 file/get/2253008845?profile=original
ATTENDEE;ROLE=REQ-PARTICIPANT;PARTSTAT=ACCEPTED;RSVP=TRUE;CN=lazytrain
 s:https://blues.gr/profile/lazytrains
END:VEVENT
END:VCALENDAR
