BEGIN:VCALENDAR
PRODID:NingEventWidget-v1
VERSION:2.0
METHOD:PUBLISH
BEGIN:VTIMEZONE
TZID:Europe/Athens
X-LIC-LOCATION:Europe/Athens
BEGIN:DAYLIGHT
TZOFFSETFROM:+0200
TZOFFSETTO:+0300
TZNAME:EEST
DTSTART:19700329T030000
RRULE:FREQ=YEARLY;BYMONTH=3;BYDAY=-1SU
END:DAYLIGHT
BEGIN:STANDARD
TZOFFSETFROM:+0300
TZOFFSETTO:+0200
TZNAME:EET
DTSTART:19701025T040000
RRULE:FREQ=YEARLY;BYMONTH=10;BYDAY=-1SU
END:STANDARD
END:VTIMEZONE
BEGIN:VEVENT
UID:1982923:Event:120956
DTSTAMP:20260423T052532Z
SUMMARY:Δημήτρης Παναγόπουλος (unplugged)
DESCRIPTION:solo-unpluggedΟ τραγουδοποιός Δ. Παναγ
 όπουλος με ακουστική κιθάρα και φυσαρ
 όνικα σε δικά του, blues, rag-time και folk. • ε
 σοδος: 6 ευρώ• έναρξη live: 23:00\n\nFor more inform
 ation visit https://blues.gr/events/unplugged
DTSTART;TZID=Europe/Athens:20111112T000000
DTEND;TZID=Europe/Athens:20111112T235900
CATEGORIES:blues, folk, ragtime
LOCATION:In Vivo
WEBSITE:http://www.myspace.com/dimitrispanagopoulos1
URL:http://www.myspace.com/dimitrispanagopoulos1
CONTACT:210-3822103
ORGANIZER:In Vivo
ATTACH;FMTTYPE="image/jpeg":http://storage.ning.com/topology/rest/1.0/
 file/get/2252960546?profile=original
ATTENDEE;ROLE=REQ-PARTICIPANT;PARTSTAT=ACCEPTED;RSVP=TRUE;CN="Music Ne
 twork by Michael Limnios":https://blues.gr/profile/MichalisLimnios
END:VEVENT
END:VCALENDAR
