BEGIN:VCALENDAR
PRODID:NingEventWidget-v1
VERSION:2.0
METHOD:PUBLISH
BEGIN:VTIMEZONE
TZID:Europe/Athens
X-LIC-LOCATION:Europe/Athens
BEGIN:DAYLIGHT
TZOFFSETFROM:+0200
TZOFFSETTO:+0300
TZNAME:EEST
DTSTART:19700329T030000
RRULE:FREQ=YEARLY;BYMONTH=3;BYDAY=-1SU
END:DAYLIGHT
BEGIN:STANDARD
TZOFFSETFROM:+0300
TZOFFSETTO:+0200
TZNAME:EET
DTSTART:19701025T040000
RRULE:FREQ=YEARLY;BYMONTH=10;BYDAY=-1SU
END:STANDARD
END:VTIMEZONE
BEGIN:VEVENT
UID:1982923:Event:63209
DTSTAMP:20260421T062147Z
SUMMARY:Vancouver Island Blue Bash
DESCRIPTION:Paul Black will be on for one set at the famous Victoria B
 lues Bash\n\nFor more information visit https://blues.gr/events/vancou
 ver-island-blue-bash
DTSTART;TZID=Europe/Athens:20100722T143000
DTEND;TZID=Europe/Athens:20100722T160000
CATEGORIES:festival
LOCATION:Ships Point
WEBSITE:http://www.paulblack.ca
URL:http://www.paulblack.ca
CONTACT:
ORGANIZER:Blues and Jazz society
ATTACH;FMTTYPE="image/jpeg":http://storage.ning.com/topology/rest/1.0/
 file/get/2252943534?profile=original
ATTENDEE;ROLE=REQ-PARTICIPANT;PARTSTAT=ACCEPTED;RSVP=TRUE;CN="Paul Bla
 ck":https://blues.gr/profile/PaulBlack
END:VEVENT
END:VCALENDAR
