BEGIN:VCALENDAR
PRODID:NingEventWidget-v1
VERSION:2.0
METHOD:PUBLISH
BEGIN:VTIMEZONE
TZID:Europe/Athens
X-LIC-LOCATION:Europe/Athens
BEGIN:DAYLIGHT
TZOFFSETFROM:+0200
TZOFFSETTO:+0300
TZNAME:EEST
DTSTART:19700329T030000
RRULE:FREQ=YEARLY;BYMONTH=3;BYDAY=-1SU
END:DAYLIGHT
BEGIN:STANDARD
TZOFFSETFROM:+0300
TZOFFSETTO:+0200
TZNAME:EET
DTSTART:19701025T040000
RRULE:FREQ=YEARLY;BYMONTH=10;BYDAY=-1SU
END:STANDARD
END:VTIMEZONE
BEGIN:VEVENT
UID:1982923:Event:196266
DTSTAMP:20260425T160452Z
SUMMARY:Vassilis Blue Sotiriou & The BRB Live
DESCRIPTION:\n\nFor more information visit https://blues.gr/events/vas
 silis-blue-sotiriou-the-brb-live
DTSTART;TZID=Europe/Athens:20140215T000000
DTEND;TZID=Europe/Athens:20140216T235900
CATEGORIES:παρουσιαση, νεου, album
LOCATION:FIX DARK LIVE CLUB
WEBSITE:
URL:
CONTACT:
ORGANIZER;CN="Vassilis Blue Sotiriou":https://blues.gr/profile/Vassili
 sBlueSotiriou
ATTACH;FMTTYPE="image/jpeg":http://storage.ning.com/topology/rest/1.0/
 file/get/2253019063?profile=original
ATTENDEE;ROLE=REQ-PARTICIPANT;PARTSTAT=ACCEPTED;RSVP=TRUE;CN="Vassilis
  Blue Sotiriou":https://blues.gr/profile/VassilisBlueSotiriou
END:VEVENT
END:VCALENDAR
