BEGIN:VCALENDAR
PRODID:NingEventWidget-v1
VERSION:2.0
METHOD:PUBLISH
BEGIN:VTIMEZONE
TZID:Europe/Athens
X-LIC-LOCATION:Europe/Athens
BEGIN:DAYLIGHT
TZOFFSETFROM:+0200
TZOFFSETTO:+0300
TZNAME:EEST
DTSTART:19700329T030000
RRULE:FREQ=YEARLY;BYMONTH=3;BYDAY=-1SU
END:DAYLIGHT
BEGIN:STANDARD
TZOFFSETFROM:+0300
TZOFFSETTO:+0200
TZNAME:EET
DTSTART:19701025T040000
RRULE:FREQ=YEARLY;BYMONTH=10;BYDAY=-1SU
END:STANDARD
END:VTIMEZONE
BEGIN:VEVENT
UID:1982923:Event:41891
DTSTAMP:20260425T023242Z
SUMMARY:VICKY B. & THE ACOUSTIC TROUBLES
DESCRIPTION:Vicky B.: φωνή - Γιάννης Σκυλλάς: hammon
 d - Μάνος Καρζής: κιθάρα -Σταμάτης Σταμα
 τάκης: κόντρα μπάσο - Γιώργος Καρλής: ν
 ραμς.\nBlues και... άλλα από τη \"χαλαρή\" έκ
 δοση των PLASTIC PEOPLE. Ίδια κεγάτη διάθεση 
 ε ένα πιο ακουστικό set up που κρατάει όμ
 ως φηλά τη μουσική θερμοκρασία.\n\nFor more 
 information visit https://blues.gr/events/vicky-b-the-acoustic-trouble
 s
DTSTART;TZID=Europe/Athens:20100206T223000
DTEND;TZID=Europe/Athens:20100207T023000
CATEGORIES:blues, and, "more..."
LOCATION:LAZY CLUB
WEBSITE:http://maps.google.com/maps?f=q&source=s_q&hl=en&geocode=&q=+%
 CE%9B%CE%95%CE%A9%CE%A6.+%CE%A0%CE%95%CE%9D%CE%A4%CE%95%CE%9B%CE%97%CE
 %A3+1,+%CE%92%CE%A1%CE%99%CE%9BH%CE%A3%CE%A3%CE%99%CE%91,+%CE%91%CE%98
 %CE%97%CE%9D%CE%91&sll=20.632784,-81.386719&sspn=34.805689,56.162109&i
 e=UTF8&hq=%CE%9B%CE%95%CE%A9%CE%A6.+%CE%A0%CE%95%CE%9D%CE%A4%CE%95%CE%
 9B%CE%97%CE%A3+1,+%CE%92%CE%A1%CE%99%CE%9BH%CE%A3%CE%A3%CE%99%CE%91,&h
 near=Athens,+Greece&ll=38.03322,23.830719&spn=0.029002,0.054846&z=14
URL:http://maps.google.com/maps?f=q&source=s_q&hl=en&geocode=&q=+%CE%9
 B%CE%95%CE%A9%CE%A6.+%CE%A0%CE%95%CE%9D%CE%A4%CE%95%CE%9B%CE%97%CE%A3+
 1,+%CE%92%CE%A1%CE%99%CE%9BH%CE%A3%CE%A3%CE%99%CE%91,+%CE%91%CE%98%CE%
 97%CE%9D%CE%91&sll=20.632784,-81.386719&sspn=34.805689,56.162109&ie=UT
 F8&hq=%CE%9B%CE%95%CE%A9%CE%A6.+%CE%A0%CE%95%CE%9D%CE%A4%CE%95%CE%9B%C
 E%97%CE%A3+1,+%CE%92%CE%A1%CE%99%CE%9BH%CE%A3%CE%A3%CE%99%CE%91,&hnear
 =Athens,+Greece&ll=38.03322,23.830719&spn=0.029002,0.054846&z=14
CONTACT:210 6895535
ORGANIZER;CN="Spiros Dramitinos":https://blues.gr/profile/SpirosDramit
 inos
ATTACH;FMTTYPE="image/jpeg":
ATTENDEE;ROLE=REQ-PARTICIPANT;PARTSTAT=ACCEPTED;RSVP=TRUE;CN="Spiros D
 ramitinos":https://blues.gr/profile/SpirosDramitinos
ATTENDEE;ROLE=REQ-PARTICIPANT;PARTSTAT=TENTATIVE;RSVP=TRUE;CN="Giannis
  Pachidis":https://blues.gr/profile/ioannis
END:VEVENT
END:VCALENDAR
