BEGIN:VCALENDAR
PRODID:NingEventWidget-v1
VERSION:2.0
METHOD:PUBLISH
BEGIN:VTIMEZONE
TZID:Europe/Athens
X-LIC-LOCATION:Europe/Athens
BEGIN:DAYLIGHT
TZOFFSETFROM:+0200
TZOFFSETTO:+0300
TZNAME:EEST
DTSTART:19700329T030000
RRULE:FREQ=YEARLY;BYMONTH=3;BYDAY=-1SU
END:DAYLIGHT
BEGIN:STANDARD
TZOFFSETFROM:+0300
TZOFFSETTO:+0200
TZNAME:EET
DTSTART:19701025T040000
RRULE:FREQ=YEARLY;BYMONTH=10;BYDAY=-1SU
END:STANDARD
END:VTIMEZONE
BEGIN:VEVENT
UID:1982923:Event:162711
DTSTAMP:20260423T052553Z
SUMMARY:VICKY B. & THE PLASTIC PEOPLE
DESCRIPTION:\nΣάββατο 15/12\nVICKY B. & THE PLASTIC PEOPLE\nVic
 ky B.: φωνή, Γιώργος Δάφνος: κιθάρα, Γιάνν
 ης Σκυλλάς: πλήκτρα, Χρήστος Κεχρής: μπ
 άσο, Τάκης Δρακόπουλος: σαξόφωνο, Νίκο
  Θεσσαλονικεύς: ντραμς.\n Κέφι, κέφι, κ
 φι και χορός σε σημείο εξόντωσης! Η αν
 ξάντλητη Vicky B. στην καλύτερή της φόρμα
 , τινάζει το Lazy στον αέρα. Μη τους χάσετ
 ε!..\nΕίσοδος 10 ευρώ με ποτό.\n\nFor more informati
 on visit https://blues.gr/events/vicky-b-the-plastic-people
DTSTART;TZID=Europe/Athens:20121215T233000
DTEND;TZID=Europe/Athens:20121216T023000
CATEGORIES:αφιέρωμα, "στο.....κέφι."
LOCATION:LAZY CLUB
WEBSITE:
URL:
CONTACT:210 6895535
ORGANIZER;CN="Spiros Dramitinos":https://blues.gr/profile/SpirosDramit
 inos
ATTACH;FMTTYPE="image/jpeg":http://storage.ning.com/topology/rest/1.0/
 file/get/2252997966?profile=original
ATTENDEE;ROLE=REQ-PARTICIPANT;PARTSTAT=ACCEPTED;RSVP=TRUE;CN="Spiros D
 ramitinos":https://blues.gr/profile/SpirosDramitinos
END:VEVENT
END:VCALENDAR
