BEGIN:VCALENDAR
PRODID:NingEventWidget-v1
VERSION:2.0
METHOD:PUBLISH
BEGIN:VTIMEZONE
TZID:Europe/Athens
X-LIC-LOCATION:Europe/Athens
BEGIN:DAYLIGHT
TZOFFSETFROM:+0200
TZOFFSETTO:+0300
TZNAME:EEST
DTSTART:19700329T030000
RRULE:FREQ=YEARLY;BYMONTH=3;BYDAY=-1SU
END:DAYLIGHT
BEGIN:STANDARD
TZOFFSETFROM:+0300
TZOFFSETTO:+0200
TZNAME:EET
DTSTART:19701025T040000
RRULE:FREQ=YEARLY;BYMONTH=10;BYDAY=-1SU
END:STANDARD
END:VTIMEZONE
BEGIN:VEVENT
UID:1982923:Event:493685
DTSTAMP:20260425T020604Z
SUMMARY:Vinyl Bazaar & Live
DESCRIPTION:2ήμερο VINYL BAZAAR \r\nΠαρασκευή 26 & Σά
 βατο 27 Σεπτεμβρίου 10:00-19:00. Μεγάλες προ
 σφορές σε 10.000 βινὐλια απο 20%-50%.\r\n ΒEBOP RE
 CORDS, ΠΑΝΕΠΙΣΤΗΜΙΟΥ 34, Αθήνα\r\n Σάββατο 17
 :00 live: ANDREAS GOMOZIAS TRIO!!\r\n\n\nFor more information visit ht
 tps://blues.gr/events/vinyl-bazaar-live
DTSTART;TZID=Europe/Athens:20250926T000000
DTEND;TZID=Europe/Athens:20250927T235900
CATEGORIES:bazzar, live
LOCATION:ΒEBOP RECORDS
WEBSITE:
URL:
CONTACT:21 1424 6653
ORGANIZER:ΒEBOP RECORDS
ATTACH;FMTTYPE="image/jpeg":https://storage.ning.com/topology/rest/1.0
 /file/get/13712235875?profile=original
ATTENDEE;ROLE=REQ-PARTICIPANT;PARTSTAT=ACCEPTED;RSVP=TRUE;CN="Music Ne
 twork by Michael Limnios":https://blues.gr/profile/MichalisLimnios
END:VEVENT
END:VCALENDAR
