BEGIN:VCALENDAR
PRODID:NingEventWidget-v1
VERSION:2.0
METHOD:PUBLISH
BEGIN:VTIMEZONE
TZID:Europe/Athens
X-LIC-LOCATION:Europe/Athens
BEGIN:DAYLIGHT
TZOFFSETFROM:+0200
TZOFFSETTO:+0300
TZNAME:EEST
DTSTART:19700329T030000
RRULE:FREQ=YEARLY;BYMONTH=3;BYDAY=-1SU
END:DAYLIGHT
BEGIN:STANDARD
TZOFFSETFROM:+0300
TZOFFSETTO:+0200
TZNAME:EET
DTSTART:19701025T040000
RRULE:FREQ=YEARLY;BYMONTH=10;BYDAY=-1SU
END:STANDARD
END:VTIMEZONE
BEGIN:VEVENT
UID:1982923:Event:269417
DTSTAMP:20260423T145043Z
SUMMARY:14ο Vinyl Is Back
DESCRIPTION:Το Vinyl is Back συνεχίζει να γράφει ι
 στορία: μετά από 5 χρόνια ζωντανής παρο
 υσίας με την εκδήλωση- θεσμό για το βιν
 ύλιο, βάζει χρώμα και δίνει ρυθμό στη ζ
 ωή μας, συμμετέχοντας και το ίδιο στην 
 παραγωγή δίσκων βινυλίου και βάζοντας
  τη σφραγίδα του στην ολική επιστροφή 
 ου βινυλίου! Το “Cine Κεραμεικός” θα φ
 λοξένησει την κορυφαία εκδήλωση για τ
 ο βινύλιο την Παρασκευή 7, Σάββατο 8 και
  Κυριακή 9 Δεκεμβρίου. Όπως πάντα με ελ
 ύθερη είσοδο όλο το τριήμερο. Tο 14ο Vinyl
  is Back είναι αφιερωμένο στην Jazz με live εμ
 ανίσεις, jam sessions, μουσικά αφιερώματα, ν
 έες κυκλοφορίες και προβολές. Ζήστε μ
 α συναρπαστική εμπειρία στο μοναδικό 
 σόου αφιερωμένο στο βινύλιο. Δίσκοι, π
 κάπ, αξεσουάρ, αλλά και μια σειρά από li
 ve εμφανίσεις καλλιτεχνών και d.j.s δημιο
 υργούν την γνώριμη πια σε όλους ατμόσφ
 αιρα μουσικής γιορτής. Το Vinyl is Back, πισ
 ό στις αρχικές εξαγγελίες του, προχωρ
  στην κυκλοφορία του δεύτερου δίσκου 
 ης σειράς “Vinyl is Back Live Sessions” με τη ζων
 ανή ηχογράφηση των Locomondo, που τόσο περ
 μένουν οι vinylmaniacs. \r\n\r\nΠαράλληλες εκδ
 λώσεις\r\nΤο 14o Vinyl is Back είναι αφιερωμέν
  στην ελληνική Jazz σκηνή με τη συμμετοχ
 ή σημαντικών συγκροτημάτων και μουσικ
 ών!\r\nΓιώργος Κοντραφούρης & Baby Trio Live ! F
 eaturing Δήμητρα Κοκκινοπούλου (φωνή)\r\n*Κυ
 ριακή 9 Δεκεμβρίου στις 6.30 μ.μ.\r\nΤάκης 
 παρμπέρης Group Live !\r\n*Σάββατο 8 Δεκεμβρί
 ου στις 7.30 μ.μ.\r\nΠυρός Αιθήρ Live !\r\n*Σάββ
 ατο 8 Δεκεμβρίου στις 5 μ.μ.\r\nΝάσια Γκόφ
 α Quartet feat. Γιώργος Κρομμύδας Live!\r\n*Κυρι
 κή 9 Δεκεμβρίου στις 5.30 μ.μ.\r\nΑνδρέας Γ
 κομόζιας – Listen To The Past feat. Δημήτρης Πολ
 τιμος Live!\r\n*Σάββατο 8 Δεκεμβρίου στις 4
  μ.μ.\r\nDJ Sets\r\nΜάκης Μηλάτος (Athens Voice Radio 10
 2.5), Γιώργος Μουχταρίδης (Pepper 96.6), Μιχάλ
 ς Λημνιός – The King is Back Project, Γιάννης Παπ
 αγόπουλος (Fragile Mag), Άκης Έβενης (Art X Press),
  Γιώργος Ράλλης (Underflow), Άκης Λαδικός – 
 The Teacher, Γιάννης Καφάτος (Viewtag), Τάσος Με
 εμενόγλου (Ash In Art), Νίκος Δρογώσης (En Lefk
 o 87.7)\r\nΣημείο αναφοράς στην επίσκεψη τ
 ν vinylmaniacs είναι το ‘’Δισκοπωλείο’’, 
 να ειδικά διαμορφωμένο δισκάδικο σε ρ
 εαλιστικό μέγεθος, όπου όλοι θέλουν να
  βγάλουν μια αναμνηστική φωτογραφία! Κ
 αινούργια συλλεκτικά posters, σύγχρονα vint
 age πικαπάκια διαθέσιμα προς ακρόαση δί
 σκων και αναμνηστικά από το Vinyl is Back!\r\n 
 Info: Cine Κεραμεικός Κεραμεικού 58 και Μαρ
 θώνος 13 Κεραμεικός, Πλησίον σταθμού Μ
 τρό Ομόνοιας και Κεραμεικού. τηλ. 210-5222
 222 Είσοδος δωρεάν όλες τις ημέρες Ώρες 
 λειτουργίας: Παρασκευή 7 Δεκεμβρίου: 5 
 .μ. - 9 μ.μ. Σάββατο 8 Δεκεμβρίου: 11 π.μ. – 
 9 μ.μ. Κυριακή 9 Δεκεμβρίου: 11 π.μ. – 9 μ.μ.
  www.vinylisback.gr\r\n\n\nFor more information visit https://blues.gr
 /events/vinyl-is-back-2
DTSTART;TZID=Europe/Athens:20181207T000000
DTEND;TZID=Europe/Athens:20181209T235900
CATEGORIES:bazzar, live, djs
LOCATION:Cine Κεραμεικός
WEBSITE:http://www.vinylisback.gr
URL:http://www.vinylisback.gr
CONTACT:
ORGANIZER:Demand
ATTACH;FMTTYPE="image/jpeg":http://storage.ning.com/topology/rest/1.0/
 file/get/133467253?profile=original
ATTENDEE;ROLE=REQ-PARTICIPANT;PARTSTAT=ACCEPTED;RSVP=TRUE;CN="Music Ne
 twork by Michael Limnios":https://blues.gr/profile/MichalisLimnios
END:VEVENT
END:VCALENDAR
