BEGIN:VCALENDAR
PRODID:NingEventWidget-v1
VERSION:2.0
METHOD:PUBLISH
BEGIN:VTIMEZONE
TZID:Europe/Athens
X-LIC-LOCATION:Europe/Athens
BEGIN:DAYLIGHT
TZOFFSETFROM:+0200
TZOFFSETTO:+0300
TZNAME:EEST
DTSTART:19700329T030000
RRULE:FREQ=YEARLY;BYMONTH=3;BYDAY=-1SU
END:DAYLIGHT
BEGIN:STANDARD
TZOFFSETFROM:+0300
TZOFFSETTO:+0200
TZNAME:EET
DTSTART:19701025T040000
RRULE:FREQ=YEARLY;BYMONTH=10;BYDAY=-1SU
END:STANDARD
END:VTIMEZONE
BEGIN:VEVENT
UID:1982923:Event:106630
DTSTAMP:20260422T040342Z
SUMMARY:VIRGINIA MARTINEZ AT MONTEVIDEO
DESCRIPTION:SÁBADO 16 DE JULIO EN EL MUSEO DEL VINO DE MONTEVIDEO: BL
 UES, SOUL Y JAZZ PARA ENTIBIAR EL INVIERNO!!!!!!!\n\nFor more informat
 ion visit https://blues.gr/events/virginia-martinez-at
DTSTART;TZID=Europe/Athens:20110716T220000
DTEND;TZID=Europe/Athens:20110716T234500
CATEGORIES:show
LOCATION:MUSEO DEL VINO
WEBSITE:http://www.myspace.com/virginiablues
URL:http://www.myspace.com/virginiablues
CONTACT:
ORGANIZER:HORACIO SANTINI
ATTACH;FMTTYPE="image/jpeg":http://storage.ning.com/topology/rest/1.0/
 file/get/2252954409?profile=original
ATTENDEE;ROLE=REQ-PARTICIPANT;PARTSTAT=ACCEPTED;RSVP=TRUE;CN="VIRGINIA
  MARTINEZ":https://blues.gr/profile/VIRGINIAMARTINEZ
ATTENDEE;ROLE=REQ-PARTICIPANT;PARTSTAT=TENTATIVE;RSVP=TRUE;CN="Giannis
  Pachidis":https://blues.gr/profile/ioannis
END:VEVENT
END:VCALENDAR
