BEGIN:VCALENDAR
PRODID:NingEventWidget-v1
VERSION:2.0
METHOD:PUBLISH
BEGIN:VTIMEZONE
TZID:Europe/Athens
X-LIC-LOCATION:Europe/Athens
BEGIN:DAYLIGHT
TZOFFSETFROM:+0200
TZOFFSETTO:+0300
TZNAME:EEST
DTSTART:19700329T030000
RRULE:FREQ=YEARLY;BYMONTH=3;BYDAY=-1SU
END:DAYLIGHT
BEGIN:STANDARD
TZOFFSETFROM:+0300
TZOFFSETTO:+0200
TZNAME:EET
DTSTART:19701025T040000
RRULE:FREQ=YEARLY;BYMONTH=10;BYDAY=-1SU
END:STANDARD
END:VTIMEZONE
BEGIN:VEVENT
UID:1982923:Event:88747
DTSTAMP:20260420T141546Z
SUMMARY:VIRGINIA MARTINEZ EN MONTEVIDEO
DESCRIPTION:JANUARY 8, 15 Y 22 live AT MONTEVIDEO!!!!\n\nFor more info
 rmation visit https://blues.gr/events/virginia-martinez-en-1
DTSTART;TZID=Europe/Athens:20110115T220000
DTEND;TZID=Europe/Athens:20110122T120000
CATEGORIES:show
LOCATION:MUSEO DEL VINO
WEBSITE:http://www.myspace.com/virginiablues
URL:http://www.myspace.com/virginiablues
CONTACT:
ORGANIZER:HORACIO SANTINI
ATTACH;FMTTYPE="image/jpeg":http://storage.ning.com/topology/rest/1.0/
 file/get/2252947293?profile=original
ATTENDEE;ROLE=REQ-PARTICIPANT;PARTSTAT=ACCEPTED;RSVP=TRUE;CN="VIRGINIA
  MARTINEZ":https://blues.gr/profile/VIRGINIAMARTINEZ
END:VEVENT
END:VCALENDAR
