BEGIN:VCALENDAR
PRODID:NingEventWidget-v1
VERSION:2.0
METHOD:PUBLISH
BEGIN:VTIMEZONE
TZID:Europe/Athens
X-LIC-LOCATION:Europe/Athens
BEGIN:DAYLIGHT
TZOFFSETFROM:+0200
TZOFFSETTO:+0300
TZNAME:EEST
DTSTART:19700329T030000
RRULE:FREQ=YEARLY;BYMONTH=3;BYDAY=-1SU
END:DAYLIGHT
BEGIN:STANDARD
TZOFFSETFROM:+0300
TZOFFSETTO:+0200
TZNAME:EET
DTSTART:19701025T040000
RRULE:FREQ=YEARLY;BYMONTH=10;BYDAY=-1SU
END:STANDARD
END:VTIMEZONE
BEGIN:VEVENT
UID:1982923:Event:94694
DTSTAMP:20260421T201752Z
SUMMARY:VIRGINIA MARTINEZ EN MONTEVIDEO Y MÉXICO...
DESCRIPTION:NUEVO SHOW ANTES DE PARTIR A MÉXICO: 19 DE MARZO EN MUSEO
  DEL VINO DE MONTEVIDEO\n\nFor more information visit https://blues.gr
 /events/virginia-martinez-en-2
DTSTART;TZID=Europe/Athens:20110319T230000
DTEND;TZID=Europe/Athens:20110320T010000
CATEGORIES:show
LOCATION:MUSEO DEL VINO
WEBSITE:http://www.myspace.com/virginiablues
URL:http://www.myspace.com/virginiablues
CONTACT:
ORGANIZER:HORACIO SANTINI
ATTACH;FMTTYPE="image/jpeg":
ATTENDEE;ROLE=REQ-PARTICIPANT;PARTSTAT=ACCEPTED;RSVP=TRUE;CN="VIRGINIA
  MARTINEZ":https://blues.gr/profile/VIRGINIAMARTINEZ
END:VEVENT
END:VCALENDAR
