BEGIN:VCALENDAR
PRODID:NingEventWidget-v1
VERSION:2.0
METHOD:PUBLISH
BEGIN:VTIMEZONE
TZID:Europe/Athens
X-LIC-LOCATION:Europe/Athens
BEGIN:DAYLIGHT
TZOFFSETFROM:+0200
TZOFFSETTO:+0300
TZNAME:EEST
DTSTART:19700329T030000
RRULE:FREQ=YEARLY;BYMONTH=3;BYDAY=-1SU
END:DAYLIGHT
BEGIN:STANDARD
TZOFFSETFROM:+0300
TZOFFSETTO:+0200
TZNAME:EET
DTSTART:19701025T040000
RRULE:FREQ=YEARLY;BYMONTH=10;BYDAY=-1SU
END:STANDARD
END:VTIMEZONE
BEGIN:VEVENT
UID:1982923:Event:19478
DTSTAMP:20260423T150843Z
SUMMARY:vtk concert
DESCRIPTION:fingerpicking guitar\n\nFor more information visit https:/
 /blues.gr/events/vtk-concert
DTSTART;TZID=Europe/Athens:20090310T200000
DTEND;TZID=Europe/Athens:20090310T230000
CATEGORIES:fingerpicking, guitar
LOCATION:Leuven Belgium
WEBSITE:http://www.vtk.be/ontspanning/activiteiten/gitaar/
URL:http://www.vtk.be/ontspanning/activiteiten/gitaar/
CONTACT:
ORGANIZER;CN="chatz kostas":https://blues.gr/profile/chatzkonstantin
ATTACH;FMTTYPE="image/jpeg":http://storage.ning.com/topology/rest/1.0/
 file/get/2252936343?profile=original
ATTENDEE;ROLE=REQ-PARTICIPANT;PARTSTAT=ACCEPTED;RSVP=TRUE;CN="chatz ko
 stas":https://blues.gr/profile/chatzkonstantin
END:VEVENT
END:VCALENDAR
