BEGIN:VCALENDAR
PRODID:NingEventWidget-v1
VERSION:2.0
METHOD:PUBLISH
BEGIN:VTIMEZONE
TZID:Europe/Athens
X-LIC-LOCATION:Europe/Athens
BEGIN:DAYLIGHT
TZOFFSETFROM:+0200
TZOFFSETTO:+0300
TZNAME:EEST
DTSTART:19700329T030000
RRULE:FREQ=YEARLY;BYMONTH=3;BYDAY=-1SU
END:DAYLIGHT
BEGIN:STANDARD
TZOFFSETFROM:+0300
TZOFFSETTO:+0200
TZNAME:EET
DTSTART:19701025T040000
RRULE:FREQ=YEARLY;BYMONTH=10;BYDAY=-1SU
END:STANDARD
END:VTIMEZONE
BEGIN:VEVENT
UID:1982923:Event:43465
DTSTAMP:20260422T002606Z
SUMMARY:W.C. (Who Cares) blues band live at Cafe Santan Volos
DESCRIPTION:Oi W.C.( Who Cares) είναι μια Blues Band η οπο
 ία κινείται σε vintage blues σχήματα έχοντας
  έντονο το στοιχείο του αυτοσχεδιασμο
  και του απρόβλεπτου. Ο vintage ήχος και η 
 προσεκτική επιλογή των Blues διασκευών κ
 αλύπτουν μεγάλο φάσμα του αμερικάνικο
 υ αλλά και του αγγλικού Blues των περασμέ
 νων δεκαετιών.\nΗ μπάντα αποτελείται α
 ο 6 μέλη δίνοντας μια ιδιαίτερη πολυφω
 νία και πολυχρωμία ήχων.\nΤα μέλη είναι
 :\nΦώνη: Σωτήρης Ζηργάνος\nΚιθάρα: Κασσι
 δής Χρήστος\nΚιθάρα: Σπύρου Γιώργος\nΦυ
 σαρμόνικα: Κολοκοτρώνης Γιάννης\nΜπάσ
 -φωνή: Καραμάνος Νίκος\nΤύμπανα: Δαβιδ
 πουλος Γιώργος\n\nFor more information visit https://blu
 es.gr/events/wc-who-cares-blues-band-live
DTSTART;TZID=Europe/Athens:20100224T223000
DTEND;TZID=Europe/Athens:20100225T020000
CATEGORIES:blues, concert
LOCATION:CAFE SANTAN VOLOS
WEBSITE:
URL:
CONTACT:
ORGANIZER;CN="CRIS KASSIDIS":https://blues.gr/profile/CRISKASSIDIS
ATTACH;FMTTYPE="image/jpeg":http://storage.ning.com/topology/rest/1.0/
 file/get/2252939282?profile=original
ATTENDEE;ROLE=REQ-PARTICIPANT;PARTSTAT=ACCEPTED;RSVP=TRUE;CN="CRIS KAS
 SIDIS":https://blues.gr/profile/CRISKASSIDIS
END:VEVENT
END:VCALENDAR
