BEGIN:VCALENDAR
PRODID:NingEventWidget-v1
VERSION:2.0
METHOD:PUBLISH
BEGIN:VTIMEZONE
TZID:Europe/Athens
X-LIC-LOCATION:Europe/Athens
BEGIN:DAYLIGHT
TZOFFSETFROM:+0200
TZOFFSETTO:+0300
TZNAME:EEST
DTSTART:19700329T030000
RRULE:FREQ=YEARLY;BYMONTH=3;BYDAY=-1SU
END:DAYLIGHT
BEGIN:STANDARD
TZOFFSETFROM:+0300
TZOFFSETTO:+0200
TZNAME:EET
DTSTART:19701025T040000
RRULE:FREQ=YEARLY;BYMONTH=10;BYDAY=-1SU
END:STANDARD
END:VTIMEZONE
BEGIN:VEVENT
UID:1982923:Event:47764
DTSTAMP:20260422T142036Z
SUMMARY:W.C.(Who Cares) blues band Concert
DESCRIPTION:Oi W.C.( Who Cares) είναι μια Blues Band η οπο
 ία κινείται σε vintage blues σχήματα έχοντας
  έντονο το στοιχείο του αυτοσχεδιασμο
  και του απρόβλεπτου. Ο vintage ήχος και η 
 προσεκτική επιλογή των Blues διασκευών κ
 αλύπτουν μεγάλο φάσμα του αμερικάνικο
 υ αλλά και του αγγλικού Blues των περασμέ
 νων δεκαετιών.\nΗ μπάντα αποτελ...είται 
 απο 6 μέλη δίνοντας μια ιδιαίτερη πολυ
 ωνία και πολυχρωμία ήχων.\nΤα μέλη είν
 ι:\nΦώνη: Σωτήρης Ζηργάνος\nΚιθάρα: Κασ
 ιδής Χρήστος\nΚιθάρα: Σπύρου Γιώργος\n
 υσαρμόνικα: Κολοκοτρώνης Γιάννης\nΜπά
 σο-φωνή: Καραμάνος Νίκος\nΤύμπανα: Δαβι
 δόπουλος Γιώργος\n\nFor more information visit https://
 blues.gr/events/wcwho-cares-blues-band-concert
DTSTART;TZID=Europe/Athens:20100324T223000
DTEND;TZID=Europe/Athens:20100325T020000
CATEGORIES:blues, concert
LOCATION:RODON NEA ANXIALOS -VOLOS
WEBSITE:http://www.myspace.com/whocaresbluesband
URL:http://www.myspace.com/whocaresbluesband
CONTACT:
ORGANIZER;CN="CRIS KASSIDIS":https://blues.gr/profile/CRISKASSIDIS
ATTACH;FMTTYPE="image/jpeg":http://storage.ning.com/topology/rest/1.0/
 file/get/2252939878?profile=original
ATTENDEE;ROLE=REQ-PARTICIPANT;PARTSTAT=ACCEPTED;RSVP=TRUE;CN="CRIS KAS
 SIDIS":https://blues.gr/profile/CRISKASSIDIS
END:VEVENT
END:VCALENDAR
