BEGIN:VCALENDAR
PRODID:NingEventWidget-v1
VERSION:2.0
METHOD:PUBLISH
BEGIN:VTIMEZONE
TZID:Europe/Athens
X-LIC-LOCATION:Europe/Athens
BEGIN:DAYLIGHT
TZOFFSETFROM:+0200
TZOFFSETTO:+0300
TZNAME:EEST
DTSTART:19700329T030000
RRULE:FREQ=YEARLY;BYMONTH=3;BYDAY=-1SU
END:DAYLIGHT
BEGIN:STANDARD
TZOFFSETFROM:+0300
TZOFFSETTO:+0200
TZNAME:EET
DTSTART:19701025T040000
RRULE:FREQ=YEARLY;BYMONTH=10;BYDAY=-1SU
END:STANDARD
END:VTIMEZONE
BEGIN:VEVENT
UID:1982923:Event:56829
DTSTAMP:20260421T172252Z
SUMMARY:W.C.(Who Cares) Blues Band live at Nea Anxialos Volos (28/5/20
 10 )
DESCRIPTION:Oi W.C.( Who Cares) είναι μια Blues Band η οπο
 ία κινείται σε vintage blues σχήματα έχοντας
  έντονο το στοιχείο του αυτοσχεδιασμο
  και του απρόβλεπτου.\nΗ μπάντα αποτελ
 ίται απο τους:\nΦώνη: Σωτήρης Ζηργάνος\
 nΚιθάρα: Κασσιδής Χρήστος\nΚιθάρα: Σπύρ
 ου Γιώργος\nΦυσαρμόνικα: Κολοκοτρώνης 
 Γιάννης\nΜπάσο-φωνή: Καραμάνος Νίκος\nΤ
 ύμπανα: Δαβιδόπουλος Γιώργος\n\nΗ ιστορ
 ία των W.C.(Who Cares) αρχίζει τον Φεβρουάριο
  του 2007, όπου ο Χρήστος Κασσίδης και ο Γ
 ιώργος Σπύρου γνωρίστηκαν και άρχισαν
  να περνούν τα απογεύματα τους, τζαμάρ
 ντας με τις κιθάρες τους και ακούγοντ
 ς παλιούς blues δίσκους. Τον Σεπτέμβριο 
 ου ίδιου χρόνου πλαισιώνει την παρέα 
  παλιός φίλος του Χρήστου από τα φοιτη
 τικά χρόνια, ο μπασίστας του σχήματος 
 ίκος Καραμάνος. Η ανάγκη για την δημιο
 υργία μιας blues μπάντας έφερε τον ντράμ
 ερ Γιώργο Δαβιδόπουλο φίλο του Γιώργο
  Σπύρου. Έτσι ξεκινούν οι πρώτες πρόβε
  του σχήματος το οποίο δεν είχε ακόμη 
 νομα. Τον Ιανουάριο του 2008, η παρέα μπα
 ίνει στο στούντιο, όπου δουλεύει εντατ
 ικά, προβάροντας συνεχώς κομμάτια της 
 αμερικάνικης και αγγλικής σκηνής, εστ
 άζοντας στο ηλεκτρικό blues των 60’ και 70
 ’. Το καλοκαίρι του ίδιου χρόνου, ο κοι
 νός φίλος των Σπύρου και Δαβιδόπουλου 
 Γιάννης Κολοκοτρώνης, συμπληρώνει την
  μπάντα τραγουδώντας και παίζοντας φυ
 αρμόνικα. Η πενταμελής πλέον μπάντα α
 οκτάει το όνομα W.C. Οι W.C. κάνουν το ντε
 πούτο τους στη σκηνή τον Αύγουστο του 
 2009, όπου συμμετέχουν σε τοπικά φεστιβά
 λ ανοιχτού χώρου. Τον Νοέμβριο του 2009 ο
  Χρήστος γνωρίζει τυχαία τον Σωτήρη Ζη
 ργάνο, ο οποίος πλαισιώνει την μπάντα 
 ς ο βασικός τραγουδιστής των W.C. Τα αρχ
 ικά του συγκροτήματος (αν και αναπόφευ
 κτα παραπέμπουν στο μέρος όπου ανταπο
 ρινόμαστε στο κάλεσμα της φύσης….!) αφ
 ήνουν να εννοηθεί το ερώτημα Who Cares ..about
  the blues these days…? Η απάντηση έρχεται μέσα 
 από τις τακτικές εμφανίσεις του συγκρ
 τήματος, σε bar και μουσικές σκηνές του 
 Βόλου και είναι κάτι παραπάνω από ενθα
 ρυντική..! Ακούγοντας κανείς τη φράση W.
 C. BLUES BAND LIVE, θα πρέπει να ξέρει πως πρόκ
 ιται για: 1. Μία βραδιά γεμάτη BLUEZZZZZ… 2. 
 Ήχο βγαλμένο απ’τα παλιά… 3. Μία παρέα
  (στη σκηνή! …όχι στο κοινό…!!!) να εφαρ
 όζει την ιδέα του jam as much as you can!!! 4. BOURBON!
 !! ή ό,τι θέλει ο καθένας τέλος πάντων… 
 Αυτά τα ολίγα…. Get your mojo workin’!\n\nFor more info
 rmation visit https://blues.gr/events/wcwho-cares-blues-band-live-at-1
DTSTART;TZID=Europe/Athens:20100528T210000
DTEND;TZID=Europe/Athens:20100529T010000
CATEGORIES:blues, concert
LOCATION:Aiolia bar Nea Agxialos Volos
WEBSITE:http://www.myspace.com/whocaresbluesband
URL:http://www.myspace.com/whocaresbluesband
CONTACT:
ORGANIZER;CN="CRIS KASSIDIS":https://blues.gr/profile/CRISKASSIDIS
ATTACH;FMTTYPE="image/jpeg":http://storage.ning.com/topology/rest/1.0/
 file/get/2252943451?profile=original
ATTENDEE;ROLE=REQ-PARTICIPANT;PARTSTAT=ACCEPTED;RSVP=TRUE;CN="CRIS KAS
 SIDIS":https://blues.gr/profile/CRISKASSIDIS
END:VEVENT
END:VCALENDAR
