BEGIN:VCALENDAR
PRODID:NingEventWidget-v1
VERSION:2.0
METHOD:PUBLISH
BEGIN:VTIMEZONE
TZID:Europe/Athens
X-LIC-LOCATION:Europe/Athens
BEGIN:DAYLIGHT
TZOFFSETFROM:+0200
TZOFFSETTO:+0300
TZNAME:EEST
DTSTART:19700329T030000
RRULE:FREQ=YEARLY;BYMONTH=3;BYDAY=-1SU
END:DAYLIGHT
BEGIN:STANDARD
TZOFFSETFROM:+0300
TZOFFSETTO:+0200
TZNAME:EET
DTSTART:19701025T040000
RRULE:FREQ=YEARLY;BYMONTH=10;BYDAY=-1SU
END:STANDARD
END:VTIMEZONE
BEGIN:VEVENT
UID:1982923:Event:80380
DTSTAMP:20260421T222634Z
SUMMARY:W.C.(Who Cares) Blues Band Live
DESCRIPTION:BLUES LIVE\n\nFor more information visit https://blues.gr/
 events/wcwho-cares-blues-band-live
DTSTART;TZID=Europe/Athens:20101126T220000
DTEND;TZID=Europe/Athens:20101127T020000
CATEGORIES:blues, concert
LOCATION:ARGORIDERS CLUB ΚΛΗΜΑ ΦΥΤΟΚΟΥ
WEBSITE:
URL:
CONTACT:
ORGANIZER;CN="CRIS KASSIDIS":https://blues.gr/profile/CRISKASSIDIS
ATTACH;FMTTYPE="image/jpeg":http://storage.ning.com/topology/rest/1.0/
 file/get/2252945581?profile=original
ATTENDEE;ROLE=REQ-PARTICIPANT;PARTSTAT=ACCEPTED;RSVP=TRUE;CN="CRIS KAS
 SIDIS":https://blues.gr/profile/CRISKASSIDIS
END:VEVENT
END:VCALENDAR
