BEGIN:VCALENDAR
PRODID:NingEventWidget-v1
VERSION:2.0
METHOD:PUBLISH
BEGIN:VTIMEZONE
TZID:Europe/Athens
X-LIC-LOCATION:Europe/Athens
BEGIN:DAYLIGHT
TZOFFSETFROM:+0200
TZOFFSETTO:+0300
TZNAME:EEST
DTSTART:19700329T030000
RRULE:FREQ=YEARLY;BYMONTH=3;BYDAY=-1SU
END:DAYLIGHT
BEGIN:STANDARD
TZOFFSETFROM:+0300
TZOFFSETTO:+0200
TZNAME:EET
DTSTART:19701025T040000
RRULE:FREQ=YEARLY;BYMONTH=10;BYDAY=-1SU
END:STANDARD
END:VTIMEZONE
BEGIN:VEVENT
UID:1982923:Event:490451
DTSTAMP:20260419T195059Z
SUMMARY:WHITE BOOTS RHYTHM & BLUES QUINTET
DESCRIPTION:Μετά από 23 χρόνια, οι WHITE BOOTS και 
 άλι μαζί! Στη σκηνή του Half Note Jazz Club την 
 Πέμπτη 26 Οκτωβρίου.\r\nΗ ιστορία τους ξε
 κινάει κάπου στις αρχές της 10ετίας του
  ’90. Δεκέμβριος 1991 για την ακρίβεια. Μι
 α παρέα φίλων μαζευόταν στο δώμα μιας 
 ονοκατοικίας στο Περιστέρι. Άκουγαν κ
 ι έπαιζαν τα μπλουζ που λάτρευαν. Χωρί
  κανείς να καταλάβει πώς ακριβώς συνέ
 η, σύντομα οι μαζώξεις έγιναν πρόβες σ
 ε στούντιο, με αγαπημένα μπλουζ standard, κ
 άποια λιγότερο γνωστά στο ευρύ κοινό α
 λλά και δικά τους τραγούδια – και κάπο
 υ στην πορεία, μεταξύ σοβαρού κι αστεί
 υ, αποφάσισαν να ξεκινήσουν live εμφανί
 εις. Ήρθαν οι πρώτες εμφανίσεις σε μου
 σικές σκηνές της εποχής. Από τις πιο ση
 μαντικές, τότε στο ξεκίνημά τους, ήταν 
 όταν το «Αν» στα Εξάρχεια τους κάλεσε 
 άποια Σαββατόβραδα να παίξουν support στ
 υς ήδη καταξιωμένους Blues Cargo.\r\nΑπό τότ
  κύλησε πολύ νερό στο αυλάκι, έγραψαν 
 ολλά χιλιόμετρα σε live, παίζοντας τη δι
 κή τους εκδοχή του Blues μπολιασμένου με 
 Funky και Soul στοιχεία, ακολούθησαν αλλαγ
 ς μελών και το συγκρότημα ήταν πολύ δρ
 αστήριο μέχρι και το 2000. Και φτάνουμε σ
 το 2023, όπου και πάλι μεταξύ σοβαρού κι 
 στείου κάποιος ρίχνει την ιδέα: δε μαζ
 ευόμαστε πάλι να κάνουμε μία live εμφάνι
 ση; Και η ιδέα γίνεται πράξη: WHITE BOOTS ξαν
 ά επί σκηνής! Την Πέμπτη 26 Οκτωβρίου στ
 ο Half Note Jazz Club.\r\n Νίκος Ρούσσος – τραγού
 δι, Γιώργος Στεφανάκης – κιθάρα, Γιώργ
 ος Γούτης – κιθάρα, Γιάννης Κόκκινος 
  ηλεκτρικό μπάσο, Χρήστος Κουτσογιάνν
 ης – τύμπανα + guests\r\n \n\nFor more information visit ht
 tps://blues.gr/events/white-boots-rhythm-blues-quintet
DTSTART;TZID=Europe/Athens:20231026T000000
DTEND;TZID=Europe/Athens:20231026T235900
CATEGORIES:blues
LOCATION:Half Note Jazz Club
WEBSITE:https://www.halfnote.gr/event/white-boots-rhythm-blues-quintet
 /
URL:https://www.halfnote.gr/event/white-boots-rhythm-blues-quintet/
CONTACT:210 9213310
ORGANIZER:Half Note Jazz Club
ATTACH;FMTTYPE="image/jpeg":https://storage.ning.com/topology/rest/1.0
 /file/get/12232941879?profile=original
ATTENDEE;ROLE=REQ-PARTICIPANT;PARTSTAT=ACCEPTED;RSVP=TRUE;CN="Music Ne
 twork by Michael Limnios":https://blues.gr/profile/MichalisLimnios
END:VEVENT
END:VCALENDAR
