BEGIN:VCALENDAR
PRODID:NingEventWidget-v1
VERSION:2.0
METHOD:PUBLISH
BEGIN:VTIMEZONE
TZID:Europe/Athens
X-LIC-LOCATION:Europe/Athens
BEGIN:DAYLIGHT
TZOFFSETFROM:+0200
TZOFFSETTO:+0300
TZNAME:EEST
DTSTART:19700329T030000
RRULE:FREQ=YEARLY;BYMONTH=3;BYDAY=-1SU
END:DAYLIGHT
BEGIN:STANDARD
TZOFFSETFROM:+0300
TZOFFSETTO:+0200
TZNAME:EET
DTSTART:19701025T040000
RRULE:FREQ=YEARLY;BYMONTH=10;BYDAY=-1SU
END:STANDARD
END:VTIMEZONE
BEGIN:VEVENT
UID:1982923:Event:85630
DTSTAMP:20260424T224500Z
SUMMARY:White Peppers @ Lazy Club
DESCRIPTION:Με τη δυναμική παρουσία τους, το
 ν προσωπικό αισθησιακό και κρυστάλλιν
 ο ήχο, τα ρυθμικά & \"ανεβαστικά\" τραγού
 δια τους αλλά και επιλεγμένες διασκευ
 ς από το χώρο της Funk - Blues - Rock μουσικής, 
 οι White Peppers θα δώσουν με το δικό τους πά
 τα τρόπο ένα ακόμα live στο Lazy Club μετά τι
 ς γιορτές στις 16/1/2011.Η εκπληκτική Φωνή 
 και παρουσία της Ιλιάδας Καλαμαρά, η α
 θεντική και χαρακτηριστική κιθάρα κα
  φωνή του Τάκη Φακούδη, τα μαγικά Piano-Key
 boards του Βασίλη Κοντοδήμου, το \"ανεβαστ
 ικό\" και \"μπιτάτο\" rhythm-session στο μπάσο-ν
 τραμς και κρουστά από τους Δημήτρη Αντ
 ωνακάκη - Μάκη Κωνστάντη - Τίμο Κορονετ
 όπουλο και τα φωνητικά της μπάντας θα 
 ας ταξιδέψουν σε Blues-Funk-Rock καταστάσεις
 !Μαζί τους οι ατμοσφαιρικοί The Mules που θ
 α σας κάνουν να μη θέλετε να σταματήσο
 ν να παίζουν τα καταπληκτικά cover τραγο
 ύδια με τις κιθάρες τους!! Be There...Feel Good...
 Ηot & Spicy Music!!\n\n\nFor more information visit https://blues.gr/
 events/white-peppers-lazy-club
DTSTART;TZID=Europe/Athens:20110116T210000
DTEND;TZID=Europe/Athens:20110117T020000
CATEGORIES:"live band"
LOCATION:Lazy Club
WEBSITE:
URL:
CONTACT:
ORGANIZER;CN="Dimitris Antonakakis":https://blues.gr/profile/DimitrisA
 ntonakakis
ATTACH;FMTTYPE="image/jpeg":http://storage.ning.com/topology/rest/1.0/
 file/get/2252946227?profile=original
ATTENDEE;ROLE=REQ-PARTICIPANT;PARTSTAT=ACCEPTED;RSVP=TRUE;CN=eddie:htt
 ps://blues.gr/profile/eddie238
ATTENDEE;ROLE=REQ-PARTICIPANT;PARTSTAT=ACCEPTED;RSVP=TRUE;CN="Dimitris
  Antonakakis":https://blues.gr/profile/DimitrisAntonakakis
END:VEVENT
END:VCALENDAR
