BEGIN:VCALENDAR
PRODID:NingEventWidget-v1
VERSION:2.0
METHOD:PUBLISH
BEGIN:VTIMEZONE
TZID:Europe/Athens
X-LIC-LOCATION:Europe/Athens
BEGIN:DAYLIGHT
TZOFFSETFROM:+0200
TZOFFSETTO:+0300
TZNAME:EEST
DTSTART:19700329T030000
RRULE:FREQ=YEARLY;BYMONTH=3;BYDAY=-1SU
END:DAYLIGHT
BEGIN:STANDARD
TZOFFSETFROM:+0300
TZOFFSETTO:+0200
TZNAME:EET
DTSTART:19701025T040000
RRULE:FREQ=YEARLY;BYMONTH=10;BYDAY=-1SU
END:STANDARD
END:VTIMEZONE
BEGIN:VEVENT
UID:1982923:Event:81729
DTSTAMP:20260421T232926Z
SUMMARY:White Peppers Live @ Petropolis
DESCRIPTION:Funky-Blues βραδιά με γνωστά ακούσμα
 α στο ύφος των White Peppers, αλλά και πολλά 
 ικά τους τραγούδια.\n\nFor more information visit htt
 ps://blues.gr/events/white-peppers-live-petropolis
DTSTART;TZID=Europe/Athens:20101212T210000
DTEND;TZID=Europe/Athens:20101213T010000
CATEGORIES:live, band
LOCATION:Πετρούπολη, κοντά στην πλατεία
WEBSITE:
URL:
CONTACT:6943278085
ORGANIZER;CN="Dimitris Antonakakis":https://blues.gr/profile/DimitrisA
 ntonakakis
ATTACH;FMTTYPE="image/jpeg":http://storage.ning.com/topology/rest/1.0/
 file/get/2252946714?profile=original
ATTENDEE;ROLE=REQ-PARTICIPANT;PARTSTAT=ACCEPTED;RSVP=TRUE;CN="Dimitris
  Antonakakis":https://blues.gr/profile/DimitrisAntonakakis
END:VEVENT
END:VCALENDAR
