BEGIN:VCALENDAR
PRODID:NingEventWidget-v1
VERSION:2.0
METHOD:PUBLISH
BEGIN:VTIMEZONE
TZID:Europe/Athens
X-LIC-LOCATION:Europe/Athens
BEGIN:DAYLIGHT
TZOFFSETFROM:+0200
TZOFFSETTO:+0300
TZNAME:EEST
DTSTART:19700329T030000
RRULE:FREQ=YEARLY;BYMONTH=3;BYDAY=-1SU
END:DAYLIGHT
BEGIN:STANDARD
TZOFFSETFROM:+0300
TZOFFSETTO:+0200
TZNAME:EET
DTSTART:19701025T040000
RRULE:FREQ=YEARLY;BYMONTH=10;BYDAY=-1SU
END:STANDARD
END:VTIMEZONE
BEGIN:VEVENT
UID:1982923:Event:81973
DTSTAMP:20260422T010725Z
SUMMARY:White Peppers @ PETROpolis Live
DESCRIPTION:Funky-Blues βραδιά στο ύφος των White Pepp
 ers, με γνωστά διασκευασμένα τραγούδια 
 λλά και πολλά δικά τους από την νέα δο
 λειά που ετοιμάζουν.\nΟι White Peppers θα παρ
 ουσιάσουν τα καινούργια τους τραγούδι
 α για πρώτη φόρα ξεκινώντας ένα κύκλο 
 μφανίσεων στη μουσική σκηνή της Blues - Fu
 nky - Rock\nΤην βραδιά θα ανοίξουν οι The Mules\n
 White Peppers, Being white in skin but...hot and spicy in Heart & Musi
 c!!\n\n...PETROpolis LIVE\nΘράκης 72 Πετρούπολη\nDoors
  open: 20:30\nΕισοδος: 8 euro με ποτό\n\nBLUES-FUNK-ROCK-
 FUSION\nDimitris Antonakakis: Bass\nTakis Fakoudis: Singer-Guitar\nIli
 ada Kalamara: Singer\nMakis Konstantis: Singer-Drums\nBasilis Kondodim
 os: Keybords-Vocals\nhttp://www.myspace.com/whitepepers\nhttp://www.ju
 mpingfish.gr/whitepeppers\nhttp://www.reverbnation.com/whitepeppers\nh
 ttp://www.musicwave.gr/WHITEPEPERS/\n\n\nFor more information visit ht
 tps://blues.gr/events/white-peppers-petropolis-live-2
DTSTART;TZID=Europe/Athens:20101212T203000
DTEND;TZID=Europe/Athens:20101213T020000
CATEGORIES:live, music
LOCATION:Θράκης 72  Πετρούπολη  @ PETROpolis Live
WEBSITE:http://www.bing.com/maps/default.aspx?v=2&pc=FACEBK&mid=8100&r
 tp=adr.~pos._%CE%98%CE%A1%CE%91%CE%9A%CE%97%CE%A3+72%2C+%CE%A0%CE%95%C
 E%A4%CE%A1%CE%9F%CE%A5%CE%A0%CE%9F%CE%9B%CE%97%2C+%3Cspan+class%3D%22l
 ocality%22%3E%3C%2Fspan%3E%2C+%3Cspan+class%3D%22country-name%22%3E%3C
 %2Fspan%3E&lvl=16&sty=r&rtop=0~0~0~&mode=D#JmNwPTM3Ljk2OTk5MzU5MX4yMy4
 3MTk5ODk3NzU5OTk5OSZsdmw9MTYmZGlyPTAmc3R5PXImcnRwPWFkci5+YWRyLiZtb2RlP
 UQmcnRvcD0wfjB+MH4=
URL:http://www.bing.com/maps/default.aspx?v=2&pc=FACEBK&mid=8100&rtp=a
 dr.~pos._%CE%98%CE%A1%CE%91%CE%9A%CE%97%CE%A3+72%2C+%CE%A0%CE%95%CE%A4
 %CE%A1%CE%9F%CE%A5%CE%A0%CE%9F%CE%9B%CE%97%2C+%3Cspan+class%3D%22local
 ity%22%3E%3C%2Fspan%3E%2C+%3Cspan+class%3D%22country-name%22%3E%3C%2Fs
 pan%3E&lvl=16&sty=r&rtop=0~0~0~&mode=D#JmNwPTM3Ljk2OTk5MzU5MX4yMy43MTk
 5ODk3NzU5OTk5OSZsdmw9MTYmZGlyPTAmc3R5PXImcnRwPWFkci5+YWRyLiZtb2RlPUQmc
 nRvcD0wfjB+MH4=
CONTACT:2105019617 - 6943278085
ORGANIZER:Makisk & White Peppers
ATTACH;FMTTYPE="image/jpeg":http://storage.ning.com/topology/rest/1.0/
 file/get/2166124667?profile=original
ATTENDEE;ROLE=REQ-PARTICIPANT;PARTSTAT=ACCEPTED;RSVP=TRUE;CN=Makisk:ht
 tps://blues.gr/profile/Makisk
END:VEVENT
END:VCALENDAR
