BEGIN:VCALENDAR
PRODID:NingEventWidget-v1
VERSION:2.0
METHOD:PUBLISH
BEGIN:VTIMEZONE
TZID:Europe/Athens
X-LIC-LOCATION:Europe/Athens
BEGIN:DAYLIGHT
TZOFFSETFROM:+0200
TZOFFSETTO:+0300
TZNAME:EEST
DTSTART:19700329T030000
RRULE:FREQ=YEARLY;BYMONTH=3;BYDAY=-1SU
END:DAYLIGHT
BEGIN:STANDARD
TZOFFSETFROM:+0300
TZOFFSETTO:+0200
TZNAME:EET
DTSTART:19701025T040000
RRULE:FREQ=YEARLY;BYMONTH=10;BYDAY=-1SU
END:STANDARD
END:VTIMEZONE
BEGIN:VEVENT
UID:1982923:Event:105956
DTSTAMP:20260425T144055Z
SUMMARY:Who Cares Blues Band LIVE at European Music Day Volos
DESCRIPTION:European Music Day Festival.\nBolos 17-21.6.2011\nΟΛΗ 
  ΠΟΛΗ ΜΙΑ ΜΟΥΣΙΚΗ ΣΚΗΝΗ !!\n\nFor more information
  visit https://blues.gr/events/who-cares-blues-band-live-at-2
DTSTART;TZID=Europe/Athens:20110619T000000
DTEND;TZID=Europe/Athens:20110619T235900
CATEGORIES:festival
LOCATION:Συγκρότημα Τσαλαπάτα
WEBSITE:http://<iframe width=\"425\" height=\"350\" frameborder=\"0\" 
 scrolling=\"no\" marginheight=\"0\" marginwidth=\"0\" src=\"http://map
 s.google.com/maps?q=39.365215,22.932004&amp;num=1&amp;sll=37.0625,-95.
 677068&amp;sspn=23.875,57.630033&amp;ie=UTF8&amp;ll=39.364364,22.93187
 9&amp;spn=0.008494,0.013797&amp;z=14&amp;output=embed\"></iframe><br /
 ><small><a href=\"http://maps.google.com/maps?q=39.365215,22.932004&am
 p;num=1&amp;sll=37.0625,-95.677068&amp;sspn=23.875,57.630033&amp;ie=UT
 F8&amp;ll=39.364364,22.931879&amp;spn=0.
URL:http://<iframe width=\"425\" height=\"350\" frameborder=\"0\" scro
 lling=\"no\" marginheight=\"0\" marginwidth=\"0\" src=\"http://maps.go
 ogle.com/maps?q=39.365215,22.932004&amp;num=1&amp;sll=37.0625,-95.6770
 68&amp;sspn=23.875,57.630033&amp;ie=UTF8&amp;ll=39.364364,22.931879&am
 p;spn=0.008494,0.013797&amp;z=14&amp;output=embed\"></iframe><br /><sm
 all><a href=\"http://maps.google.com/maps?q=39.365215,22.932004&amp;nu
 m=1&amp;sll=37.0625,-95.677068&amp;sspn=23.875,57.630033&amp;ie=UTF8&a
 mp;ll=39.364364,22.931879&amp;spn=0.
CONTACT:
ORGANIZER:
ATTACH;FMTTYPE="image/jpeg":http://storage.ning.com/topology/rest/1.0/
 file/get/2112288035?profile=original
ATTENDEE;ROLE=REQ-PARTICIPANT;PARTSTAT=ACCEPTED;RSVP=TRUE;CN="Sotiris 
 Zirganos":https://blues.gr/profile/SotirisZirganos
END:VEVENT
END:VCALENDAR
