BEGIN:VCALENDAR
PRODID:NingEventWidget-v1
VERSION:2.0
METHOD:PUBLISH
BEGIN:VTIMEZONE
TZID:Europe/Athens
X-LIC-LOCATION:Europe/Athens
BEGIN:DAYLIGHT
TZOFFSETFROM:+0200
TZOFFSETTO:+0300
TZNAME:EEST
DTSTART:19700329T030000
RRULE:FREQ=YEARLY;BYMONTH=3;BYDAY=-1SU
END:DAYLIGHT
BEGIN:STANDARD
TZOFFSETFROM:+0300
TZOFFSETTO:+0200
TZNAME:EET
DTSTART:19701025T040000
RRULE:FREQ=YEARLY;BYMONTH=10;BYDAY=-1SU
END:STANDARD
END:VTIMEZONE
BEGIN:VEVENT
UID:1982923:Event:107304
DTSTAMP:20260422T022007Z
SUMMARY:Zero Zero & Markela Panayotou
DESCRIPTION:MARKELLA PANAYOTOU WAS BORN IN LEBANON TO GREEK PARENTS. F
 ROM AN EARLY AGE AND SPECIFICALLY AT THE AGE OF 3 SHE APPEARED LIVE ON
  NATIONAL LEBANESE CHILDREN'S TELEVISION. RELOCATING TO GREECE IN 1978
  SHE PERFORMED LIVE W/VARIOUS ACTS & CHOREOGRAPHED UP UNTIL FINISHING 
 HIGH SCHOOL. IN THE LATE 80'S SHE STARTED TAKING PART IN MAJOR AD CAMP
 AIGN MUSIC THEMES AS VOCALIST. DOING SO SHE MET FUTURE COLLABORATOR LA
 KE. THE DUO CREATED THE DANCE GROUP \"JELLY GROOVE\" TOURED GREECE AND
  WENT ON TO RECORD THE HIT SINGLE \"SHINE(YOUR LOVE ON ME)\". THE SING
 LE WAS REMIXED BY PRODUCER ERIC CUPPER OF ANASTASIA FAME. IT CHARTED I
 N EUROPE AND ASIA. AFTER JELLY GROOVE FOLDED SHE TOOK UP THE ROLE OF D
 J FOR A NUMBER YRS. DURING ONE OF THE VENUES SHE WAS APPROACHED BY ANT
 ONIS TOURKOGIORGIS THE FOUNDER OF \"SOCRATES DRANK THE CONIUM\" WHO IN
 VITED HER TO JOIN THE NEWLY RE-UNITED BAND AS BACKING VOCALIST. SHE RE
 MAINS W/THE GROUP UNTIL TODAY. CURRENT ACTIVITIES INCLUDE COLLABORATIO
 NS W/MAJOR ARTISTS AS LYRICIST AND VOCALIST PLUS CREATION OF THEME SON
 GS FOR MAJOR AD - CAMPAIGN'S IN A NUMBER OF LANGUAGES .\n\nTHE ZERO ZE
 RO ARE:\nGIOR­GOS ZIKOS -​ GUI­TARMAR­IOS SK­OUFOS -​ BASSMIC
 HALIS CHRIS­TIDIS -​ DRUMS\n\nFor more information visit https://bl
 ues.gr/events/zero-zero-markela-panayotou
DTSTART;TZID=Europe/Athens:20110716T230000
DTEND;TZID=Europe/Athens:20110717T023000
CATEGORIES:live
LOCATION:Lazy Club
WEBSITE:http://www.myspace.com/zerozerolive
URL:http://www.myspace.com/zerozerolive
CONTACT:210 6895535
ORGANIZER:Lazy
ATTACH;FMTTYPE="image/jpeg":http://storage.ning.com/topology/rest/1.0/
 file/get/2252960458?profile=original
ATTENDEE;ROLE=REQ-PARTICIPANT;PARTSTAT=ACCEPTED;RSVP=TRUE;CN="Music Ne
 twork by Michael Limnios":https://blues.gr/profile/MichalisLimnios
END:VEVENT
END:VCALENDAR
